BEGIN:VCALENDAR
VERSION:2.0
PRODID:-//wp-events-plugin.com//7.2.3.1//EN
TZID:Europe/Paris
X-WR-TIMEZONE:Europe/Paris
BEGIN:VEVENT
UID:16@esperance-moosch.org
DTSTART;TZID=Europe/Paris;VALUE=DATE:20250201
DTEND;TZID=Europe/Paris;VALUE=DATE:20250203
DTSTAMP:20250114T115719Z
URL:https://www.esperance-moosch.org/events/carnaval-moosch-2025/
SUMMARY:Carnaval Moosch 2025
DESCRIPTION:[]\n Encore une soirée de folie en vue\, tu l'attendais elle e
 st de retour \nSamedi 1 Février Soirée Carnaval animée par DjSeb Evéne
 mentiel et Djboubou Night-events \n{On ne change pas une équipe qui gagne
  }\nSalle Aloyse Mura à Moosch\n HappyHour \n-&gt\; 19h à 21h Une boisso
 n offerte\n-&gt\; entrée 10€\n 
CATEGORIES:Carnaval
END:VEVENT
BEGIN:VTIMEZONE
TZID:Europe/Paris
X-LIC-LOCATION:Europe/Paris
BEGIN:STANDARD
DTSTART:20241027T020000
TZOFFSETFROM:+0200
TZOFFSETTO:+0100
TZNAME:CET
END:STANDARD
END:VTIMEZONE
END:VCALENDAR